BEGIN:VCALENDAR
VERSION:2.0
PRODID:-//NADI Jeli - ECPv6.15.20//NONSGML v1.0//EN
CALSCALE:GREGORIAN
METHOD:PUBLISH
X-WR-CALNAME:NADI Jeli
X-ORIGINAL-URL:https://jeli.nadi.my
X-WR-CALDESC:Events for NADI Jeli
REFRESH-INTERVAL;VALUE=DURATION:PT1H
X-Robots-Tag:noindex
X-PUBLISHED-TTL:PT1H
BEGIN:VTIMEZONE
TZID:Asia/Kuala_Lumpur
BEGIN:STANDARD
TZOFFSETFROM:+0800
TZOFFSETTO:+0800
TZNAME:+08
DTSTART:20250101T000000
END:STANDARD
END:VTIMEZONE
BEGIN:VEVENT
DTSTART;TZID=Asia/Kuala_Lumpur:20260110T100000
DTEND;TZID=Asia/Kuala_Lumpur:20260110T233000
DTSTAMP:20260422T194717
CREATED:20260106T021535Z
LAST-MODIFIED:20260106T021535Z
UID:3997-1768039200-1768087800@jeli.nadi.my
SUMMARY:FORUM MAHIR BERSAMA KOMUNITI (TERBUKA)
DESCRIPTION:
URL:https://jeli.nadi.my/event/forum-mahir-bersama-komuniti-terbuka/
END:VEVENT
BEGIN:VEVENT
DTSTART;TZID=Asia/Kuala_Lumpur:20260110T143000
DTEND;TZID=Asia/Kuala_Lumpur:20260110T163000
DTSTAMP:20260422T194717
CREATED:20260106T021638Z
LAST-MODIFIED:20260106T022053Z
UID:3999-1768055400-1768062600@jeli.nadi.my
SUMMARY:WEBINAR BERKALA SAINS EDISI 1
DESCRIPTION:
URL:https://jeli.nadi.my/event/webinar-berkala-sains-edisi-2/
END:VEVENT
END:VCALENDAR