BEGIN:VCALENDAR
VERSION:2.0
PRODID:-//NADI Jeli - ECPv6.15.20//NONSGML v1.0//EN
CALSCALE:GREGORIAN
METHOD:PUBLISH
X-WR-CALNAME:NADI Jeli
X-ORIGINAL-URL:https://jeli.nadi.my
X-WR-CALDESC:Events for NADI Jeli
REFRESH-INTERVAL;VALUE=DURATION:PT1H
X-Robots-Tag:noindex
X-PUBLISHED-TTL:PT1H
BEGIN:VTIMEZONE
TZID:Asia/Kuala_Lumpur
BEGIN:STANDARD
TZOFFSETFROM:+0800
TZOFFSETTO:+0800
TZNAME:+08
DTSTART:20250101T000000
END:STANDARD
END:VTIMEZONE
BEGIN:VEVENT
DTSTART;TZID=Asia/Kuala_Lumpur:20260116T100000
DTEND;TZID=Asia/Kuala_Lumpur:20260116T120000
DTSTAMP:20260422T194732
CREATED:20260112T021444Z
LAST-MODIFIED:20260112T021444Z
UID:4043-1768557600-1768564800@jeli.nadi.my
SUMMARY:NADI KEUSAHAWANAN : RAKAMAN WEBINAR
DESCRIPTION:
URL:https://jeli.nadi.my/event/nadi-keusahawanan-rakaman-webinar/
END:VEVENT
END:VCALENDAR