BEGIN:VCALENDAR
VERSION:2.0
PRODID:-//NADI Jeli - ECPv6.15.20//NONSGML v1.0//EN
CALSCALE:GREGORIAN
METHOD:PUBLISH
X-WR-CALNAME:NADI Jeli
X-ORIGINAL-URL:https://jeli.nadi.my
X-WR-CALDESC:Events for NADI Jeli
REFRESH-INTERVAL;VALUE=DURATION:PT1H
X-Robots-Tag:noindex
X-PUBLISHED-TTL:PT1H
BEGIN:VTIMEZONE
TZID:Asia/Kuala_Lumpur
BEGIN:STANDARD
TZOFFSETFROM:+0800
TZOFFSETTO:+0800
TZNAME:+08
DTSTART:20250101T000000
END:STANDARD
END:VTIMEZONE
BEGIN:VEVENT
DTSTART;TZID=Asia/Kuala_Lumpur:20260303T093000
DTEND;TZID=Asia/Kuala_Lumpur:20260303T233000
DTSTAMP:20260422T165107
CREATED:20260302T021428Z
LAST-MODIFIED:20260302T021428Z
UID:4232-1772530200-1772580600@jeli.nadi.my
SUMMARY:MAHIR FOTO- STUDIO LIGHTING DALAM FOTOGRAFI
DESCRIPTION:
URL:https://jeli.nadi.my/event/mahir-foto-studio-lighting-dalam-fotografi/
END:VEVENT
BEGIN:VEVENT
DTSTART;TZID=Asia/Kuala_Lumpur:20260303T143000
DTEND;TZID=Asia/Kuala_Lumpur:20260303T153000
DTSTAMP:20260422T165107
CREATED:20260302T021623Z
LAST-MODIFIED:20260302T021623Z
UID:4236-1772548200-1772551800@jeli.nadi.my
SUMMARY:OPEN TUITION BI
DESCRIPTION:
URL:https://jeli.nadi.my/event/open-tuition-bi/
END:VEVENT
BEGIN:VEVENT
DTSTART;TZID=Asia/Kuala_Lumpur:20260303T150000
DTEND;TZID=Asia/Kuala_Lumpur:20260303T163000
DTSTAMP:20260422T165107
CREATED:20260302T021055Z
LAST-MODIFIED:20260302T021055Z
UID:4220-1772550000-1772555400@jeli.nadi.my
SUMMARY:MAHIR JAHIT
DESCRIPTION:
URL:https://jeli.nadi.my/event/mahir-jahit-7/
END:VEVENT
BEGIN:VEVENT
DTSTART;TZID=Asia/Kuala_Lumpur:20260303T150000
DTEND;TZID=Asia/Kuala_Lumpur:20260303T163000
DTSTAMP:20260422T165107
CREATED:20260302T021259Z
LAST-MODIFIED:20260302T021259Z
UID:4228-1772550000-1772555400@jeli.nadi.my
SUMMARY:MAHIR BAIKI GAJET
DESCRIPTION:
URL:https://jeli.nadi.my/event/mahir-baiki-gajet/
END:VEVENT
END:VCALENDAR