BEGIN:VCALENDAR
VERSION:2.0
PRODID:-//NADI Jeli - ECPv6.15.20//NONSGML v1.0//EN
CALSCALE:GREGORIAN
METHOD:PUBLISH
X-WR-CALNAME:NADI Jeli
X-ORIGINAL-URL:https://jeli.nadi.my
X-WR-CALDESC:Events for NADI Jeli
REFRESH-INTERVAL;VALUE=DURATION:PT1H
X-Robots-Tag:noindex
X-PUBLISHED-TTL:PT1H
BEGIN:VTIMEZONE
TZID:Asia/Kuala_Lumpur
BEGIN:STANDARD
TZOFFSETFROM:+0800
TZOFFSETTO:+0800
TZNAME:+08
DTSTART:20250101T000000
END:STANDARD
END:VTIMEZONE
BEGIN:VEVENT
DTSTART;TZID=Asia/Kuala_Lumpur:20260309T143000
DTEND;TZID=Asia/Kuala_Lumpur:20260309T153000
DTSTAMP:20260422T080954
CREATED:20260302T022131Z
LAST-MODIFIED:20260302T022131Z
UID:4240-1773066600-1773070200@jeli.nadi.my
SUMMARY:OPEN TUITION SEJARAH TING 1-5
DESCRIPTION:
URL:https://jeli.nadi.my/event/open-tuition-sejarah-ting-1-5/
END:VEVENT
END:VCALENDAR