BEGIN:VCALENDAR
VERSION:2.0
PRODID:-//NADI Jeli - ECPv6.15.20//NONSGML v1.0//EN
CALSCALE:GREGORIAN
METHOD:PUBLISH
X-WR-CALNAME:NADI Jeli
X-ORIGINAL-URL:https://jeli.nadi.my
X-WR-CALDESC:Events for NADI Jeli
REFRESH-INTERVAL;VALUE=DURATION:PT1H
X-Robots-Tag:noindex
X-PUBLISHED-TTL:PT1H
BEGIN:VTIMEZONE
TZID:Asia/Kuala_Lumpur
BEGIN:STANDARD
TZOFFSETFROM:+0800
TZOFFSETTO:+0800
TZNAME:+08
DTSTART:20250101T000000
END:STANDARD
END:VTIMEZONE
BEGIN:VEVENT
DTSTART;TZID=Asia/Kuala_Lumpur:20260402T150000
DTEND;TZID=Asia/Kuala_Lumpur:20260402T160000
DTSTAMP:20260422T045436
CREATED:20260402T065132Z
LAST-MODIFIED:20260402T065132Z
UID:4296-1775142000-1775145600@jeli.nadi.my
SUMMARY:WEBINAR KIS
DESCRIPTION:PRIVASI DATA: DATA ANDA NYAWA ANDA- JANGAN BIAR DICURI
URL:https://jeli.nadi.my/event/webinar-kis/
END:VEVENT
END:VCALENDAR