BEGIN:VCALENDAR
VERSION:2.0
PRODID:-//NADI Jeli - ECPv6.15.20//NONSGML v1.0//EN
CALSCALE:GREGORIAN
METHOD:PUBLISH
X-WR-CALNAME:NADI Jeli
X-ORIGINAL-URL:https://jeli.nadi.my
X-WR-CALDESC:Events for NADI Jeli
REFRESH-INTERVAL;VALUE=DURATION:PT1H
X-Robots-Tag:noindex
X-PUBLISHED-TTL:PT1H
BEGIN:VTIMEZONE
TZID:Asia/Kuala_Lumpur
BEGIN:STANDARD
TZOFFSETFROM:+0800
TZOFFSETTO:+0800
TZNAME:+08
DTSTART:20250101T000000
END:STANDARD
END:VTIMEZONE
BEGIN:VEVENT
DTSTART;TZID=Asia/Kuala_Lumpur:20260414T140000
DTEND;TZID=Asia/Kuala_Lumpur:20260414T160000
DTSTAMP:20260422T080959
CREATED:20260402T070444Z
LAST-MODIFIED:20260402T070444Z
UID:4324-1776175200-1776182400@jeli.nadi.my
SUMMARY:KEUSAHAWANAN
DESCRIPTION:VIDEO/ RAKAMAN WEBINAR
URL:https://jeli.nadi.my/event/keusahawanan-12/
END:VEVENT
BEGIN:VEVENT
DTSTART;TZID=Asia/Kuala_Lumpur:20260414T150000
DTEND;TZID=Asia/Kuala_Lumpur:20260414T163000
DTSTAMP:20260422T080959
CREATED:20260402T070310Z
LAST-MODIFIED:20260402T070310Z
UID:4320-1776178800-1776184200@jeli.nadi.my
SUMMARY:MAHIR JAHIT
DESCRIPTION:
URL:https://jeli.nadi.my/event/mahir-jahit-13/
END:VEVENT
BEGIN:VEVENT
DTSTART;TZID=Asia/Kuala_Lumpur:20260414T150000
DTEND;TZID=Asia/Kuala_Lumpur:20260414T163000
DTSTAMP:20260422T080959
CREATED:20260402T070339Z
LAST-MODIFIED:20260402T070339Z
UID:4322-1776178800-1776184200@jeli.nadi.my
SUMMARY:MAHIR BAIKI GAJET
DESCRIPTION:
URL:https://jeli.nadi.my/event/mahir-baiki-gajet-4/
END:VEVENT
END:VCALENDAR