BEGIN:VCALENDAR
VERSION:2.0
PRODID:-//NADI Jeli - ECPv6.15.20//NONSGML v1.0//EN
CALSCALE:GREGORIAN
METHOD:PUBLISH
X-WR-CALNAME:NADI Jeli
X-ORIGINAL-URL:https://jeli.nadi.my
X-WR-CALDESC:Events for NADI Jeli
REFRESH-INTERVAL;VALUE=DURATION:PT1H
X-Robots-Tag:noindex
X-PUBLISHED-TTL:PT1H
BEGIN:VTIMEZONE
TZID:Asia/Kuala_Lumpur
BEGIN:STANDARD
TZOFFSETFROM:+0800
TZOFFSETTO:+0800
TZNAME:+08
DTSTART:20250101T000000
END:STANDARD
END:VTIMEZONE
BEGIN:VEVENT
DTSTART;TZID=Asia/Kuala_Lumpur:20260416T093000
DTEND;TZID=Asia/Kuala_Lumpur:20260416T110000
DTSTAMP:20260422T165244
CREATED:20260402T070549Z
LAST-MODIFIED:20260402T070549Z
UID:4328-1776331800-1776337200@jeli.nadi.my
SUMMARY:MAHIR JAHIT
DESCRIPTION:
URL:https://jeli.nadi.my/event/mahir-jahit-14/
END:VEVENT
BEGIN:VEVENT
DTSTART;TZID=Asia/Kuala_Lumpur:20260416T100000
DTEND;TZID=Asia/Kuala_Lumpur:20260416T120000
DTSTAMP:20260422T165244
CREATED:20260402T070619Z
LAST-MODIFIED:20260402T070619Z
UID:4330-1776333600-1776340800@jeli.nadi.my
SUMMARY:LIVE WEBINAR KEUSAHAWANAN
DESCRIPTION:
URL:https://jeli.nadi.my/event/live-webinar-keusahawanan-2/
END:VEVENT
BEGIN:VEVENT
DTSTART;TZID=Asia/Kuala_Lumpur:20260416T153000
DTEND;TZID=Asia/Kuala_Lumpur:20260416T163000
DTSTAMP:20260422T165244
CREATED:20260402T070515Z
LAST-MODIFIED:20260402T070515Z
UID:4326-1776353400-1776357000@jeli.nadi.my
SUMMARY:OPEN TUISYEN SAINS
DESCRIPTION:
URL:https://jeli.nadi.my/event/open-tuisyen-sains/
END:VEVENT
END:VCALENDAR