BEGIN:VCALENDAR
VERSION:2.0
PRODID:-//NADI Jeli - ECPv6.15.20//NONSGML v1.0//EN
CALSCALE:GREGORIAN
METHOD:PUBLISH
X-WR-CALNAME:NADI Jeli
X-ORIGINAL-URL:https://jeli.nadi.my
X-WR-CALDESC:Events for NADI Jeli
REFRESH-INTERVAL;VALUE=DURATION:PT1H
X-Robots-Tag:noindex
X-PUBLISHED-TTL:PT1H
BEGIN:VTIMEZONE
TZID:Asia/Kuala_Lumpur
BEGIN:STANDARD
TZOFFSETFROM:+0800
TZOFFSETTO:+0800
TZNAME:+08
DTSTART:20250101T000000
END:STANDARD
END:VTIMEZONE
BEGIN:VEVENT
DTSTART;TZID=Asia/Kuala_Lumpur:20260309T143000
DTEND;TZID=Asia/Kuala_Lumpur:20260309T153000
DTSTAMP:20260424T095606
CREATED:20260302T022131Z
LAST-MODIFIED:20260302T022131Z
UID:4240-1773066600-1773070200@jeli.nadi.my
SUMMARY:OPEN TUITION SEJARAH TING 1-5
DESCRIPTION:
URL:https://jeli.nadi.my/event/open-tuition-sejarah-ting-1-5/
END:VEVENT
BEGIN:VEVENT
DTSTART;TZID=Asia/Kuala_Lumpur:20260305T150000
DTEND;TZID=Asia/Kuala_Lumpur:20260305T163000
DTSTAMP:20260424T095606
CREATED:20260302T021121Z
LAST-MODIFIED:20260302T021121Z
UID:4222-1772722800-1772728200@jeli.nadi.my
SUMMARY:MAHIR JAHIT
DESCRIPTION:
URL:https://jeli.nadi.my/event/mahir-jahit-8/
END:VEVENT
BEGIN:VEVENT
DTSTART;TZID=Asia/Kuala_Lumpur:20260305T143000
DTEND;TZID=Asia/Kuala_Lumpur:20260305T150000
DTSTAMP:20260424T095606
CREATED:20260302T022056Z
LAST-MODIFIED:20260302T022056Z
UID:4238-1772721000-1772722800@jeli.nadi.my
SUMMARY:OPEN TUITION BM TING 1-5
DESCRIPTION:
URL:https://jeli.nadi.my/event/open-tuition-bm-ting-1-5/
END:VEVENT
BEGIN:VEVENT
DTSTART;TZID=Asia/Kuala_Lumpur:20260305T140000
DTEND;TZID=Asia/Kuala_Lumpur:20260305T153000
DTSTAMP:20260424T095606
CREATED:20260302T022730Z
LAST-MODIFIED:20260302T022730Z
UID:4257-1772719200-1772724600@jeli.nadi.my
SUMMARY:NADI X CYBERSECURITY: BAHAYA SERANGAN MALWARE
DESCRIPTION:
URL:https://jeli.nadi.my/event/nadi-x-cybersecurity-bahaya-serangan-malware/
END:VEVENT
BEGIN:VEVENT
DTSTART;TZID=Asia/Kuala_Lumpur:20260305T113000
DTEND;TZID=Asia/Kuala_Lumpur:20260305T123000
DTSTAMP:20260424T095606
CREATED:20260302T021530Z
LAST-MODIFIED:20260302T021530Z
UID:4234-1772710200-1772713800@jeli.nadi.my
SUMMARY:MAHIR JAHIT- JOM BERGAYA RAYA : FASHION STYLING
DESCRIPTION:
URL:https://jeli.nadi.my/event/mahir-jahit-jom-bergaya-raya-fashion-styling/
END:VEVENT
BEGIN:VEVENT
DTSTART;TZID=Asia/Kuala_Lumpur:20260303T150000
DTEND;TZID=Asia/Kuala_Lumpur:20260303T163000
DTSTAMP:20260424T095606
CREATED:20260302T021259Z
LAST-MODIFIED:20260302T021259Z
UID:4228-1772550000-1772555400@jeli.nadi.my
SUMMARY:MAHIR BAIKI GAJET
DESCRIPTION:
URL:https://jeli.nadi.my/event/mahir-baiki-gajet/
END:VEVENT
BEGIN:VEVENT
DTSTART;TZID=Asia/Kuala_Lumpur:20260303T150000
DTEND;TZID=Asia/Kuala_Lumpur:20260303T163000
DTSTAMP:20260424T095606
CREATED:20260302T021055Z
LAST-MODIFIED:20260302T021055Z
UID:4220-1772550000-1772555400@jeli.nadi.my
SUMMARY:MAHIR JAHIT
DESCRIPTION:
URL:https://jeli.nadi.my/event/mahir-jahit-7/
END:VEVENT
BEGIN:VEVENT
DTSTART;TZID=Asia/Kuala_Lumpur:20260303T143000
DTEND;TZID=Asia/Kuala_Lumpur:20260303T153000
DTSTAMP:20260424T095606
CREATED:20260302T021623Z
LAST-MODIFIED:20260302T021623Z
UID:4236-1772548200-1772551800@jeli.nadi.my
SUMMARY:OPEN TUITION BI
DESCRIPTION:
URL:https://jeli.nadi.my/event/open-tuition-bi/
END:VEVENT
BEGIN:VEVENT
DTSTART;TZID=Asia/Kuala_Lumpur:20260303T093000
DTEND;TZID=Asia/Kuala_Lumpur:20260303T233000
DTSTAMP:20260424T095606
CREATED:20260302T021428Z
LAST-MODIFIED:20260302T021428Z
UID:4232-1772530200-1772580600@jeli.nadi.my
SUMMARY:MAHIR FOTO- STUDIO LIGHTING DALAM FOTOGRAFI
DESCRIPTION:
URL:https://jeli.nadi.my/event/mahir-foto-studio-lighting-dalam-fotografi/
END:VEVENT
BEGIN:VEVENT
DTSTART;TZID=Asia/Kuala_Lumpur:20260302T100000
DTEND;TZID=Asia/Kuala_Lumpur:20260302T113000
DTSTAMP:20260424T095606
CREATED:20260204T024426Z
LAST-MODIFIED:20260204T024426Z
UID:4125-1772445600-1772451000@jeli.nadi.my
SUMMARY:KIDSVENTURE: RAKAMAN WEBINAR & VIDEO PEMBELAJARAN (PEMASARAN 2)
DESCRIPTION:
URL:https://jeli.nadi.my/event/kidsventure-rakaman-webinar-video-pembelajaran-pemasaran-2/
END:VEVENT
BEGIN:VEVENT
DTSTART;TZID=Asia/Kuala_Lumpur:20260228T100000
DTEND;TZID=Asia/Kuala_Lumpur:20260228T113000
DTSTAMP:20260424T095606
CREATED:20260204T024342Z
LAST-MODIFIED:20260204T024342Z
UID:4123-1772272800-1772278200@jeli.nadi.my
SUMMARY:KIDSVENTURE: WEBINAR ATAS TALIAN (PEMASARAN 2)
DESCRIPTION:
URL:https://jeli.nadi.my/event/kidsventure-webinar-atas-talian-pemasaran-2/
END:VEVENT
BEGIN:VEVENT
DTSTART;TZID=Asia/Kuala_Lumpur:20260223T100000
DTEND;TZID=Asia/Kuala_Lumpur:20260223T113000
DTSTAMP:20260424T095606
CREATED:20260204T024316Z
LAST-MODIFIED:20260204T024316Z
UID:4121-1771840800-1771846200@jeli.nadi.my
SUMMARY:KIDSVENTURE: RAKAMAN WEBINAR & VIDEO PEMBELAJARAN (PEMASARAN 1)
DESCRIPTION:
URL:https://jeli.nadi.my/event/kidsventure-rakaman-webinar-video-pembelajaran-pemasaran-1/
END:VEVENT
BEGIN:VEVENT
DTSTART;TZID=Asia/Kuala_Lumpur:20260221T100000
DTEND;TZID=Asia/Kuala_Lumpur:20260221T113000
DTSTAMP:20260424T095606
CREATED:20260204T024227Z
LAST-MODIFIED:20260204T024227Z
UID:4119-1771668000-1771673400@jeli.nadi.my
SUMMARY:KIDSVENTURE: WEBINAR ATAS TALIAN (PEMASARAN 1)
DESCRIPTION:
URL:https://jeli.nadi.my/event/kidsventure-webinar-atas-talian-pemasaran-1/
END:VEVENT
BEGIN:VEVENT
DTSTART;TZID=Asia/Kuala_Lumpur:20260212T150000
DTEND;TZID=Asia/Kuala_Lumpur:20260212T163000
DTSTAMP:20260424T095606
CREATED:20260204T023713Z
LAST-MODIFIED:20260204T023713Z
UID:4111-1770908400-1770913800@jeli.nadi.my
SUMMARY:WEBINAR KESELAMATAN SIBER (Cara Kenal Pasti Fail Berbentuk Virus)
DESCRIPTION:
URL:https://jeli.nadi.my/event/webinar-keselamatan-siber-cara-kenal-pasti-fail-berbentuk-virus/
END:VEVENT
BEGIN:VEVENT
DTSTART;TZID=Asia/Kuala_Lumpur:20260209T100000
DTEND;TZID=Asia/Kuala_Lumpur:20260209T113000
DTSTAMP:20260424T095606
CREATED:20260204T024122Z
LAST-MODIFIED:20260204T024122Z
UID:4117-1770631200-1770636600@jeli.nadi.my
SUMMARY:KIDVENTURE: RAKAMAN WEBINAR DAN VIDEO PEMBELAJARAN (OPERASI PERNIAGAAN)
DESCRIPTION:
URL:https://jeli.nadi.my/event/kidventure-rakaman-webinar-dan-video-pembelajaran-operasi-perniagaan/
END:VEVENT
BEGIN:VEVENT
DTSTART;TZID=Asia/Kuala_Lumpur:20260207T150000
DTEND;TZID=Asia/Kuala_Lumpur:20260207T160000
DTSTAMP:20260424T095606
CREATED:20260204T023610Z
LAST-MODIFIED:20260204T023610Z
UID:4109-1770476400-1770480000@jeli.nadi.my
SUMMARY:Program Siri Webinar Kempen Internet Selamat 2026 Siri 14
DESCRIPTION:
URL:https://jeli.nadi.my/event/program-siri-webinar-kempen-internet-selamat-2026-siri-14/
END:VEVENT
BEGIN:VEVENT
DTSTART;TZID=Asia/Kuala_Lumpur:20260207T100000
DTEND;TZID=Asia/Kuala_Lumpur:20260207T113000
DTSTAMP:20260424T095606
CREATED:20260204T024026Z
LAST-MODIFIED:20260204T024026Z
UID:4115-1770458400-1770463800@jeli.nadi.my
SUMMARY:KIDVENTURE: WEBINAR ATAS TALIAN (OPERASI PERNIAGAAN)
DESCRIPTION:
URL:https://jeli.nadi.my/event/kidventure-webinar-atas-talian-operasi-perniagaan/
END:VEVENT
BEGIN:VEVENT
DTSTART;TZID=Asia/Kuala_Lumpur:20260205T100000
DTEND;TZID=Asia/Kuala_Lumpur:20260205T110000
DTSTAMP:20260424T095606
CREATED:20260204T023853Z
LAST-MODIFIED:20260204T023853Z
UID:4113-1770285600-1770289200@jeli.nadi.my
SUMMARY:WEBINAR PEMASARAN DIGITAL EKELAS USAHAWAN (MENGURUS DAN MENGUKUR KEBERKESANAN PEMASARAN DIGITAL)
DESCRIPTION:
URL:https://jeli.nadi.my/event/webinar-pemasaran-digital-ekelas-usahawan-mengurus-dan-mengukur-keberkesanan-pemasaran-digital/
END:VEVENT
BEGIN:VEVENT
DTSTART;TZID=Asia/Kuala_Lumpur:20260201T143000
DTEND;TZID=Asia/Kuala_Lumpur:20260201T160000
DTSTAMP:20260424T095606
CREATED:20260112T021227Z
LAST-MODIFIED:20260112T021227Z
UID:4037-1769956200-1769961600@jeli.nadi.my
SUMMARY:KIDSVENTURE: Rakaman Webinar Atas Talian Bijak Kewangan
DESCRIPTION:
URL:https://jeli.nadi.my/event/kidsventure-rakaman-webinar-atas-talian-bijak-kewangan/
END:VEVENT
BEGIN:VEVENT
DTSTART;TZID=Asia/Kuala_Lumpur:20260131T100000
DTEND;TZID=Asia/Kuala_Lumpur:20260131T113000
DTSTAMP:20260424T095606
CREATED:20260112T021150Z
LAST-MODIFIED:20260112T021150Z
UID:4035-1769853600-1769859000@jeli.nadi.my
SUMMARY:KIDSVENTURE: Webinar Atas Talian Bijak Kewangan
DESCRIPTION:
URL:https://jeli.nadi.my/event/kidsventure-webinar-atas-talian-bijak-kewangan/
END:VEVENT
BEGIN:VEVENT
DTSTART;TZID=Asia/Kuala_Lumpur:20260129T100000
DTEND;TZID=Asia/Kuala_Lumpur:20260129T120000
DTSTAMP:20260424T095606
CREATED:20260112T021727Z
LAST-MODIFIED:20260112T021727Z
UID:4051-1769680800-1769688000@jeli.nadi.my
SUMMARY:NADI KEUSAHAWANAN : VIDEO PASCA LATIHAN
DESCRIPTION:
URL:https://jeli.nadi.my/event/nadi-keusahawanan-video-pasca-latihan/
END:VEVENT
BEGIN:VEVENT
DTSTART;TZID=Asia/Kuala_Lumpur:20260127T100000
DTEND;TZID=Asia/Kuala_Lumpur:20260127T120000
DTSTAMP:20260424T095606
CREATED:20260112T021652Z
LAST-MODIFIED:20260112T021652Z
UID:4049-1769508000-1769515200@jeli.nadi.my
SUMMARY:NADI KEUSAHAWANAN : PODCAST
DESCRIPTION:
URL:https://jeli.nadi.my/event/nadi-keusahawanan-podcast/
END:VEVENT
BEGIN:VEVENT
DTSTART;TZID=Asia/Kuala_Lumpur:20260126T143000
DTEND;TZID=Asia/Kuala_Lumpur:20260126T160000
DTSTAMP:20260424T095606
CREATED:20260112T021059Z
LAST-MODIFIED:20260112T021059Z
UID:4033-1769437800-1769443200@jeli.nadi.my
SUMMARY:KIDSVENTURE: Rakaman Webinar Atas Talian Pelan Perniagaan Mini 2
DESCRIPTION:
URL:https://jeli.nadi.my/event/kidsventure-rakaman-webinar-atas-talian-pelan-perniagaan-mini-2/
END:VEVENT
BEGIN:VEVENT
DTSTART;TZID=Asia/Kuala_Lumpur:20260124T100000
DTEND;TZID=Asia/Kuala_Lumpur:20260124T113000
DTSTAMP:20260424T095606
CREATED:20260112T021019Z
LAST-MODIFIED:20260112T021019Z
UID:4031-1769248800-1769254200@jeli.nadi.my
SUMMARY:KIDSVENTURE: Webinar Atas Talian Pelan Perniagaan Mini 2
DESCRIPTION:KID
URL:https://jeli.nadi.my/event/kidsventure-webinar-atas-talian-pelan-perniagaan-mini-2/
END:VEVENT
BEGIN:VEVENT
DTSTART;TZID=Asia/Kuala_Lumpur:20260123T100000
DTEND;TZID=Asia/Kuala_Lumpur:20260123T120000
DTSTAMP:20260424T095606
CREATED:20260112T021626Z
LAST-MODIFIED:20260112T021626Z
UID:4047-1769162400-1769169600@jeli.nadi.my
SUMMARY:NADI KEUSAHAWANAN : RAKAMAN WEBINAR
DESCRIPTION:
URL:https://jeli.nadi.my/event/nadi-keusahawanan-rakaman-webinar-2/
END:VEVENT
BEGIN:VEVENT
DTSTART;TZID=Asia/Kuala_Lumpur:20260122T100000
DTEND;TZID=Asia/Kuala_Lumpur:20260122T120000
DTSTAMP:20260424T095606
CREATED:20260112T021546Z
LAST-MODIFIED:20260112T021546Z
UID:4045-1769076000-1769083200@jeli.nadi.my
SUMMARY:NADI KEUSAHAWANAN : LIVE WEBINAR
DESCRIPTION:
URL:https://jeli.nadi.my/event/nadi-keusahawanan-live-webinar-2/
END:VEVENT
BEGIN:VEVENT
DTSTART;TZID=Asia/Kuala_Lumpur:20260116T100000
DTEND;TZID=Asia/Kuala_Lumpur:20260116T120000
DTSTAMP:20260424T095606
CREATED:20260112T021444Z
LAST-MODIFIED:20260112T021444Z
UID:4043-1768557600-1768564800@jeli.nadi.my
SUMMARY:NADI KEUSAHAWANAN : RAKAMAN WEBINAR
DESCRIPTION:
URL:https://jeli.nadi.my/event/nadi-keusahawanan-rakaman-webinar/
END:VEVENT
BEGIN:VEVENT
DTSTART;TZID=Asia/Kuala_Lumpur:20260115T100000
DTEND;TZID=Asia/Kuala_Lumpur:20260115T120000
DTSTAMP:20260424T095606
CREATED:20260112T021410Z
LAST-MODIFIED:20260112T021410Z
UID:4041-1768471200-1768478400@jeli.nadi.my
SUMMARY:NADI KEUSAHAWANAN : LIVE WEBINAR
DESCRIPTION:
URL:https://jeli.nadi.my/event/nadi-keusahawanan-live-webinar/
END:VEVENT
BEGIN:VEVENT
DTSTART;TZID=Asia/Kuala_Lumpur:20260113T100000
DTEND;TZID=Asia/Kuala_Lumpur:20260113T110000
DTSTAMP:20260424T095606
CREATED:20260112T021330Z
LAST-MODIFIED:20260112T021330Z
UID:4039-1768298400-1768302000@jeli.nadi.my
SUMMARY:NADI KEUSAHAWANAN : VIDEO PRA LATIHAN
DESCRIPTION:
URL:https://jeli.nadi.my/event/nadi-keusahawanan-video-pra-latihan/
END:VEVENT
BEGIN:VEVENT
DTSTART;TZID=Asia/Kuala_Lumpur:20260112T143000
DTEND;TZID=Asia/Kuala_Lumpur:20260112T160000
DTSTAMP:20260424T095606
CREATED:20260112T020911Z
LAST-MODIFIED:20260112T020911Z
UID:4029-1768228200-1768233600@jeli.nadi.my
SUMMARY:KIDVENTURE: Rakaman Webinar Video Pembelajaran
DESCRIPTION:
URL:https://jeli.nadi.my/event/kidventure-rakaman-webinar-video-pembelajaran/
END:VEVENT
END:VCALENDAR