BEGIN:VCALENDAR
VERSION:2.0
PRODID:-//NADI Jeli - ECPv6.15.20//NONSGML v1.0//EN
CALSCALE:GREGORIAN
METHOD:PUBLISH
X-WR-CALNAME:NADI Jeli
X-ORIGINAL-URL:https://jeli.nadi.my
X-WR-CALDESC:Events for NADI Jeli
REFRESH-INTERVAL;VALUE=DURATION:PT1H
X-Robots-Tag:noindex
X-PUBLISHED-TTL:PT1H
BEGIN:VTIMEZONE
TZID:Asia/Kuala_Lumpur
BEGIN:STANDARD
TZOFFSETFROM:+0800
TZOFFSETTO:+0800
TZNAME:+08
DTSTART:20240101T000000
END:STANDARD
END:VTIMEZONE
BEGIN:VEVENT
DTSTART;TZID=Asia/Kuala_Lumpur:20250911T153000
DTEND;TZID=Asia/Kuala_Lumpur:20250911T163000
DTSTAMP:20260426T035117
CREATED:20250903T072206Z
LAST-MODIFIED:20250903T072206Z
UID:3835-1757604600-1757608200@jeli.nadi.my
SUMMARY:DILEA GUIDANCE TUITION FORM 5
DESCRIPTION:BI
URL:https://jeli.nadi.my/event/dilea-guidance-tuition-form-5-4/
END:VEVENT
BEGIN:VEVENT
DTSTART;TZID=Asia/Kuala_Lumpur:20250909T153000
DTEND;TZID=Asia/Kuala_Lumpur:20250909T163000
DTSTAMP:20260426T035117
CREATED:20250903T072137Z
LAST-MODIFIED:20250903T072137Z
UID:3833-1757431800-1757435400@jeli.nadi.my
SUMMARY:DILEA GUIDANCE TUITION FORM 5
DESCRIPTION:SEJARAH
URL:https://jeli.nadi.my/event/dilea-guidance-tuition-form-5-3/
END:VEVENT
BEGIN:VEVENT
DTSTART;TZID=Asia/Kuala_Lumpur:20250908T153000
DTEND;TZID=Asia/Kuala_Lumpur:20250908T163000
DTSTAMP:20260426T035117
CREATED:20250903T072043Z
LAST-MODIFIED:20250903T072043Z
UID:3831-1757345400-1757349000@jeli.nadi.my
SUMMARY:DILEA GUIDANCE TUITION FORM 4
DESCRIPTION:BM
URL:https://jeli.nadi.my/event/dilea-guidance-tuition-form-4-2/
END:VEVENT
BEGIN:VEVENT
DTSTART;TZID=Asia/Kuala_Lumpur:20250907T033000
DTEND;TZID=Asia/Kuala_Lumpur:20250907T163000
DTSTAMP:20260426T035117
CREATED:20250903T072013Z
LAST-MODIFIED:20250903T072013Z
UID:3829-1757215800-1757262600@jeli.nadi.my
SUMMARY:DILEA GUIDANCE TUITION FORM 4
DESCRIPTION:MATEMETIK
URL:https://jeli.nadi.my/event/dilea-guidance-tuition-form-4/
END:VEVENT
BEGIN:VEVENT
DTSTART;TZID=Asia/Kuala_Lumpur:20250906T100000
DTEND;TZID=Asia/Kuala_Lumpur:20250906T110000
DTSTAMP:20260426T035117
CREATED:20250903T072435Z
LAST-MODIFIED:20250903T072435Z
UID:3837-1757152800-1757156400@jeli.nadi.my
SUMMARY:KIDVENTURE CAHORT 5
DESCRIPTION:WEBINAR
URL:https://jeli.nadi.my/event/kidventure-cahort-5/
END:VEVENT
BEGIN:VEVENT
DTSTART;TZID=Asia/Kuala_Lumpur:20250906T020000
DTEND;TZID=Asia/Kuala_Lumpur:20250906T163000
DTSTAMP:20260426T035117
CREATED:20250903T071828Z
LAST-MODIFIED:20250903T071828Z
UID:3825-1757124000-1757176200@jeli.nadi.my
SUMMARY:DILEA GUIDANCE TUITION FORM 5
DESCRIPTION:SEJ \nBI
URL:https://jeli.nadi.my/event/dilea-guidance-tuition-form-5/
END:VEVENT
BEGIN:VEVENT
DTSTART;TZID=Asia/Kuala_Lumpur:20250904T093000
DTEND;TZID=Asia/Kuala_Lumpur:20250904T113000
DTSTAMP:20260426T035117
CREATED:20250903T071645Z
LAST-MODIFIED:20250903T071645Z
UID:3823-1756978200-1756985400@jeli.nadi.my
SUMMARY:MAHIR SHORT LEARNING
DESCRIPTION:Mahir Pertanian Pintar \nMahir Masak \nMahir Baiki Gajet
URL:https://jeli.nadi.my/event/mahir-short-learning/
END:VEVENT
BEGIN:VEVENT
DTSTART;TZID=Asia/Kuala_Lumpur:20250828T153000
DTEND;TZID=Asia/Kuala_Lumpur:20250828T163000
DTSTAMP:20260426T035117
CREATED:20250805T033950Z
LAST-MODIFIED:20250805T033950Z
UID:3787-1756395000-1756398600@jeli.nadi.my
SUMMARY:OPEN TUITION (SAINS TING 3\, 4\, 5 & PENGAJIAN AM)
DESCRIPTION:
URL:https://jeli.nadi.my/event/open-tuition-sains-ting-3-4-5-pengajian-am/
END:VEVENT
BEGIN:VEVENT
DTSTART;TZID=Asia/Kuala_Lumpur:20250821T153000
DTEND;TZID=Asia/Kuala_Lumpur:20250821T163000
DTSTAMP:20260426T035117
CREATED:20250805T033919Z
LAST-MODIFIED:20250805T033919Z
UID:3785-1755790200-1755793800@jeli.nadi.my
SUMMARY:OPEN TUITION (BM TING 3\, 4\, 5 & PENGAJIAN AM)
DESCRIPTION:
URL:https://jeli.nadi.my/event/open-tuition-bm-ting-3-4-5-pengajian-am-2/
END:VEVENT
BEGIN:VEVENT
DTSTART;TZID=Asia/Kuala_Lumpur:20250819T153000
DTEND;TZID=Asia/Kuala_Lumpur:20250819T163000
DTSTAMP:20260426T035117
CREATED:20250805T033844Z
LAST-MODIFIED:20250805T033844Z
UID:3783-1755617400-1755621000@jeli.nadi.my
SUMMARY:OPEN TUITION (BI TING 3\, 4\, 5)
DESCRIPTION:
URL:https://jeli.nadi.my/event/open-tuition-bi-ting-3-4-5/
END:VEVENT
BEGIN:VEVENT
DTSTART;TZID=Asia/Kuala_Lumpur:20250818T153000
DTEND;TZID=Asia/Kuala_Lumpur:20250818T163000
DTSTAMP:20260426T035117
CREATED:20250805T033809Z
LAST-MODIFIED:20250805T033809Z
UID:3781-1755531000-1755534600@jeli.nadi.my
SUMMARY:OPEN TUITION (MATE TING 3\, 4\, 5)
DESCRIPTION:
URL:https://jeli.nadi.my/event/open-tuition-mate-ting-3-4-5/
END:VEVENT
BEGIN:VEVENT
DTSTART;TZID=Asia/Kuala_Lumpur:20250814T153000
DTEND;TZID=Asia/Kuala_Lumpur:20250814T163000
DTSTAMP:20260426T035117
CREATED:20250805T033708Z
LAST-MODIFIED:20250805T033708Z
UID:3779-1755185400-1755189000@jeli.nadi.my
SUMMARY:OPEN TUITION (SIANS TING 3\, 4\, 5 & PENGAJIAN AM)
DESCRIPTION:
URL:https://jeli.nadi.my/event/open-tuition-sians-ting-3-4-5-pengajian-am/
END:VEVENT
BEGIN:VEVENT
DTSTART;TZID=Asia/Kuala_Lumpur:20250814T153000
DTEND;TZID=Asia/Kuala_Lumpur:20250814T163000
DTSTAMP:20260426T035117
CREATED:20250805T033308Z
LAST-MODIFIED:20250805T033308Z
UID:3773-1755185400-1755189000@jeli.nadi.my
SUMMARY:LIVE CLASS (BI)
DESCRIPTION:
URL:https://jeli.nadi.my/event/live-class-bi/
END:VEVENT
BEGIN:VEVENT
DTSTART;TZID=Asia/Kuala_Lumpur:20250814T150000
DTEND;TZID=Asia/Kuala_Lumpur:20250814T160000
DTSTAMP:20260426T035117
CREATED:20250805T032627Z
LAST-MODIFIED:20250805T032627Z
UID:3760-1755183600-1755187200@jeli.nadi.my
SUMMARY:CYBERSECURITY
DESCRIPTION:📣 [WEBINAR NADI x CYBERSECURITY]\n📱 SELAMATKAH TELEFON ANDA DARIPADA ANCAMAN?
URL:https://jeli.nadi.my/event/cybersecurity/
END:VEVENT
BEGIN:VEVENT
DTSTART;TZID=Asia/Kuala_Lumpur:20250812T153000
DTEND;TZID=Asia/Kuala_Lumpur:20250812T163000
DTSTAMP:20260426T035117
CREATED:20250805T033240Z
LAST-MODIFIED:20250805T033240Z
UID:3771-1755012600-1755016200@jeli.nadi.my
SUMMARY:LIVE CLASS TING 4 ( SEJ)
DESCRIPTION:
URL:https://jeli.nadi.my/event/live-class-ting-4-sej/
END:VEVENT
BEGIN:VEVENT
DTSTART;TZID=Asia/Kuala_Lumpur:20250811T153000
DTEND;TZID=Asia/Kuala_Lumpur:20250811T163000
DTSTAMP:20260426T035117
CREATED:20250805T033623Z
LAST-MODIFIED:20250805T033623Z
UID:3777-1754926200-1754929800@jeli.nadi.my
SUMMARY:OPEN TUITION (SEJ TING 3\, 4\, 5 )
DESCRIPTION:
URL:https://jeli.nadi.my/event/open-tuition-sej-ting-3-4-5/
END:VEVENT
BEGIN:VEVENT
DTSTART;TZID=Asia/Kuala_Lumpur:20250811T153000
DTEND;TZID=Asia/Kuala_Lumpur:20250811T163000
DTSTAMP:20260426T035117
CREATED:20250805T033207Z
LAST-MODIFIED:20250805T033207Z
UID:3769-1754926200-1754929800@jeli.nadi.my
SUMMARY:LIVE CLASS TING 4 ( BM)
DESCRIPTION:
URL:https://jeli.nadi.my/event/live-class-ting-4-bm/
END:VEVENT
BEGIN:VEVENT
DTSTART;TZID=Asia/Kuala_Lumpur:20250810T153000
DTEND;TZID=Asia/Kuala_Lumpur:20250810T163000
DTSTAMP:20260426T035117
CREATED:20250805T033140Z
LAST-MODIFIED:20250805T033140Z
UID:3767-1754839800-1754843400@jeli.nadi.my
SUMMARY:LIVE CLASS TING 4 ( MATEMATIK)
DESCRIPTION:
URL:https://jeli.nadi.my/event/live-class-ting-4-matematik/
END:VEVENT
BEGIN:VEVENT
DTSTART;TZID=Asia/Kuala_Lumpur:20250809T123000
DTEND;TZID=Asia/Kuala_Lumpur:20250809T163000
DTSTAMP:20260426T035117
CREATED:20250805T033059Z
LAST-MODIFIED:20250805T033059Z
UID:3765-1754742600-1754757000@jeli.nadi.my
SUMMARY:LIVE CLASS (SEJ & MATE)
DESCRIPTION:
URL:https://jeli.nadi.my/event/live-class-sej-mate/
END:VEVENT
BEGIN:VEVENT
DTSTART;TZID=Asia/Kuala_Lumpur:20250808T143000
DTEND;TZID=Asia/Kuala_Lumpur:20250808T170000
DTSTAMP:20260426T035117
CREATED:20250805T033024Z
LAST-MODIFIED:20250805T033024Z
UID:3763-1754663400-1754672400@jeli.nadi.my
SUMMARY:LIVE CLASS TING 5 (BM & BI)
DESCRIPTION:
URL:https://jeli.nadi.my/event/live-class-ting-5-bm-bi/
END:VEVENT
BEGIN:VEVENT
DTSTART;TZID=Asia/Kuala_Lumpur:20250807T100000
DTEND;TZID=Asia/Kuala_Lumpur:20250807T120000
DTSTAMP:20260426T035117
CREATED:20250805T032458Z
LAST-MODIFIED:20250805T032458Z
UID:3756-1754560800-1754568000@jeli.nadi.my
SUMMARY:E KELAS USAHAWAN
DESCRIPTION:
URL:https://jeli.nadi.my/event/e-kelas-usahawan/
END:VEVENT
BEGIN:VEVENT
DTSTART;TZID=Asia/Kuala_Lumpur:20250807T080000
DTEND;TZID=Asia/Kuala_Lumpur:20250807T140000
DTSTAMP:20260426T035117
CREATED:20250805T032525Z
LAST-MODIFIED:20250805T032525Z
UID:3758-1754553600-1754575200@jeli.nadi.my
SUMMARY:E KELAS USAHAWAN
DESCRIPTION:
URL:https://jeli.nadi.my/event/e-kelas-usahawan-2/
END:VEVENT
BEGIN:VEVENT
DTSTART;TZID=Asia/Kuala_Lumpur:20250805T153000
DTEND;TZID=Asia/Kuala_Lumpur:20250807T163000
DTSTAMP:20260426T035117
CREATED:20250805T033538Z
LAST-MODIFIED:20250805T033538Z
UID:3775-1754407800-1754584200@jeli.nadi.my
SUMMARY:OPEN TUITION (BM TING 3\, 4\, 5 & PENGAJIAN AM)
DESCRIPTION:
URL:https://jeli.nadi.my/event/open-tuition-bm-ting-3-4-5-pengajian-am/
END:VEVENT
BEGIN:VEVENT
DTSTART;TZID=Asia/Kuala_Lumpur:20250729T153000
DTEND;TZID=Asia/Kuala_Lumpur:20250729T163000
DTSTAMP:20260426T035117
CREATED:20250705T041910Z
LAST-MODIFIED:20250705T041910Z
UID:3697-1753803000-1753806600@jeli.nadi.my
SUMMARY:OPEN LIVE CLASS BAHASA MELAYU
DESCRIPTION:
URL:https://jeli.nadi.my/event/open-live-class-bahasa-melayu-2/
END:VEVENT
BEGIN:VEVENT
DTSTART;TZID=Asia/Kuala_Lumpur:20250724T153000
DTEND;TZID=Asia/Kuala_Lumpur:20250724T163000
DTSTAMP:20260426T035117
CREATED:20250705T041821Z
LAST-MODIFIED:20250705T041821Z
UID:3693-1753371000-1753374600@jeli.nadi.my
SUMMARY:OPEN LIVE CLASS BI
DESCRIPTION:
URL:https://jeli.nadi.my/event/open-live-class-bi-4/
END:VEVENT
BEGIN:VEVENT
DTSTART;TZID=Asia/Kuala_Lumpur:20250721T153000
DTEND;TZID=Asia/Kuala_Lumpur:20250721T163000
DTSTAMP:20260426T035117
CREATED:20250705T041755Z
LAST-MODIFIED:20250705T041755Z
UID:3691-1753111800-1753115400@jeli.nadi.my
SUMMARY:OPEN LIVE CLASS SEJARAH
DESCRIPTION:
URL:https://jeli.nadi.my/event/open-live-class-sejarah-2/
END:VEVENT
BEGIN:VEVENT
DTSTART;TZID=Asia/Kuala_Lumpur:20250718T153000
DTEND;TZID=Asia/Kuala_Lumpur:20250718T163000
DTSTAMP:20260426T035117
CREATED:20250705T041722Z
LAST-MODIFIED:20250705T041722Z
UID:3689-1752852600-1752856200@jeli.nadi.my
SUMMARY:OPEN LIVE CLASS BAHASA MELAYU
DESCRIPTION:
URL:https://jeli.nadi.my/event/open-live-class-bahasa-melayu/
END:VEVENT
BEGIN:VEVENT
DTSTART;TZID=Asia/Kuala_Lumpur:20250717T153000
DTEND;TZID=Asia/Kuala_Lumpur:20250717T163000
DTSTAMP:20260426T035117
CREATED:20250705T042304Z
LAST-MODIFIED:20250705T042304Z
UID:3705-1752766200-1752769800@jeli.nadi.my
SUMMARY:LIVE CLASS TINGKATAN 4
DESCRIPTION:BAHASA INGGERIS
URL:https://jeli.nadi.my/event/live-class-tingkatan-4-4/
END:VEVENT
BEGIN:VEVENT
DTSTART;TZID=Asia/Kuala_Lumpur:20250717T153000
DTEND;TZID=Asia/Kuala_Lumpur:20250717T163000
DTSTAMP:20260426T035117
CREATED:20250705T041650Z
LAST-MODIFIED:20250705T041650Z
UID:3687-1752766200-1752769800@jeli.nadi.my
SUMMARY:OPEN LIVE CLASS SEJARAH
DESCRIPTION:
URL:https://jeli.nadi.my/event/open-live-class-sejarah/
END:VEVENT
BEGIN:VEVENT
DTSTART;TZID=Asia/Kuala_Lumpur:20250715T153000
DTEND;TZID=Asia/Kuala_Lumpur:20250715T163000
DTSTAMP:20260426T035117
CREATED:20250705T042240Z
LAST-MODIFIED:20250705T042240Z
UID:3703-1752593400-1752597000@jeli.nadi.my
SUMMARY:LIVE CLASS TINGKATAN 4
DESCRIPTION:SEJARAH
URL:https://jeli.nadi.my/event/live-class-tingkatan-4-3/
END:VEVENT
END:VCALENDAR