BEGIN:VCALENDAR
VERSION:2.0
PRODID:-//NADI Jeli - ECPv6.15.20//NONSGML v1.0//EN
CALSCALE:GREGORIAN
METHOD:PUBLISH
X-WR-CALNAME:NADI Jeli
X-ORIGINAL-URL:https://jeli.nadi.my
X-WR-CALDESC:Events for NADI Jeli
REFRESH-INTERVAL;VALUE=DURATION:PT1H
X-Robots-Tag:noindex
X-PUBLISHED-TTL:PT1H
BEGIN:VTIMEZONE
TZID:Asia/Kuala_Lumpur
BEGIN:STANDARD
TZOFFSETFROM:+0800
TZOFFSETTO:+0800
TZNAME:+08
DTSTART:20240101T000000
END:STANDARD
END:VTIMEZONE
BEGIN:VEVENT
DTSTART;TZID=Asia/Kuala_Lumpur:20250904T093000
DTEND;TZID=Asia/Kuala_Lumpur:20250904T113000
DTSTAMP:20260426T034107
CREATED:20250903T071645Z
LAST-MODIFIED:20250903T071645Z
UID:3823-1756978200-1756985400@jeli.nadi.my
SUMMARY:MAHIR SHORT LEARNING
DESCRIPTION:Mahir Pertanian Pintar \nMahir Masak \nMahir Baiki Gajet
URL:https://jeli.nadi.my/event/mahir-short-learning/
END:VEVENT
BEGIN:VEVENT
DTSTART;TZID=Asia/Kuala_Lumpur:20250906T020000
DTEND;TZID=Asia/Kuala_Lumpur:20250906T163000
DTSTAMP:20260426T034107
CREATED:20250903T071828Z
LAST-MODIFIED:20250903T071828Z
UID:3825-1757124000-1757176200@jeli.nadi.my
SUMMARY:DILEA GUIDANCE TUITION FORM 5
DESCRIPTION:SEJ \nBI
URL:https://jeli.nadi.my/event/dilea-guidance-tuition-form-5/
END:VEVENT
BEGIN:VEVENT
DTSTART;TZID=Asia/Kuala_Lumpur:20250906T100000
DTEND;TZID=Asia/Kuala_Lumpur:20250906T110000
DTSTAMP:20260426T034107
CREATED:20250903T072435Z
LAST-MODIFIED:20250903T072435Z
UID:3837-1757152800-1757156400@jeli.nadi.my
SUMMARY:KIDVENTURE CAHORT 5
DESCRIPTION:WEBINAR
URL:https://jeli.nadi.my/event/kidventure-cahort-5/
END:VEVENT
BEGIN:VEVENT
DTSTART;TZID=Asia/Kuala_Lumpur:20250907T033000
DTEND;TZID=Asia/Kuala_Lumpur:20250907T163000
DTSTAMP:20260426T034107
CREATED:20250903T072013Z
LAST-MODIFIED:20250903T072013Z
UID:3829-1757215800-1757262600@jeli.nadi.my
SUMMARY:DILEA GUIDANCE TUITION FORM 4
DESCRIPTION:MATEMETIK
URL:https://jeli.nadi.my/event/dilea-guidance-tuition-form-4/
END:VEVENT
BEGIN:VEVENT
DTSTART;TZID=Asia/Kuala_Lumpur:20250908T153000
DTEND;TZID=Asia/Kuala_Lumpur:20250908T163000
DTSTAMP:20260426T034107
CREATED:20250903T072043Z
LAST-MODIFIED:20250903T072043Z
UID:3831-1757345400-1757349000@jeli.nadi.my
SUMMARY:DILEA GUIDANCE TUITION FORM 4
DESCRIPTION:BM
URL:https://jeli.nadi.my/event/dilea-guidance-tuition-form-4-2/
END:VEVENT
BEGIN:VEVENT
DTSTART;TZID=Asia/Kuala_Lumpur:20250909T153000
DTEND;TZID=Asia/Kuala_Lumpur:20250909T163000
DTSTAMP:20260426T034107
CREATED:20250903T072137Z
LAST-MODIFIED:20250903T072137Z
UID:3833-1757431800-1757435400@jeli.nadi.my
SUMMARY:DILEA GUIDANCE TUITION FORM 5
DESCRIPTION:SEJARAH
URL:https://jeli.nadi.my/event/dilea-guidance-tuition-form-5-3/
END:VEVENT
BEGIN:VEVENT
DTSTART;TZID=Asia/Kuala_Lumpur:20250911T153000
DTEND;TZID=Asia/Kuala_Lumpur:20250911T163000
DTSTAMP:20260426T034107
CREATED:20250903T072206Z
LAST-MODIFIED:20250903T072206Z
UID:3835-1757604600-1757608200@jeli.nadi.my
SUMMARY:DILEA GUIDANCE TUITION FORM 5
DESCRIPTION:BI
URL:https://jeli.nadi.my/event/dilea-guidance-tuition-form-5-4/
END:VEVENT
BEGIN:VEVENT
DTSTART;TZID=Asia/Kuala_Lumpur:20250912T023000
DTEND;TZID=Asia/Kuala_Lumpur:20250912T170000
DTSTAMP:20260426T034107
CREATED:20250903T071923Z
LAST-MODIFIED:20250903T071923Z
UID:3827-1757644200-1757696400@jeli.nadi.my
SUMMARY:DILEA GUIDANCE TUITION FORM 5
DESCRIPTION:BI \nBM
URL:https://jeli.nadi.my/event/dilea-guidance-tuition-form-5-2/
END:VEVENT
END:VCALENDAR