BEGIN:VCALENDAR
VERSION:2.0
PRODID:-//NADI Jeli - ECPv6.15.20//NONSGML v1.0//EN
CALSCALE:GREGORIAN
METHOD:PUBLISH
X-WR-CALNAME:NADI Jeli
X-ORIGINAL-URL:https://jeli.nadi.my
X-WR-CALDESC:Events for NADI Jeli
REFRESH-INTERVAL;VALUE=DURATION:PT1H
X-Robots-Tag:noindex
X-PUBLISHED-TTL:PT1H
BEGIN:VTIMEZONE
TZID:Asia/Kuala_Lumpur
BEGIN:STANDARD
TZOFFSETFROM:+0800
TZOFFSETTO:+0800
TZNAME:+08
DTSTART:20250101T000000
END:STANDARD
END:VTIMEZONE
BEGIN:VEVENT
DTSTART;TZID=Asia/Kuala_Lumpur:20260302T100000
DTEND;TZID=Asia/Kuala_Lumpur:20260302T113000
DTSTAMP:20260422T113806
CREATED:20260204T024426Z
LAST-MODIFIED:20260204T024426Z
UID:4125-1772445600-1772451000@jeli.nadi.my
SUMMARY:KIDSVENTURE: RAKAMAN WEBINAR & VIDEO PEMBELAJARAN (PEMASARAN 2)
DESCRIPTION:
URL:https://jeli.nadi.my/event/kidsventure-rakaman-webinar-video-pembelajaran-pemasaran-2/
END:VEVENT
BEGIN:VEVENT
DTSTART;TZID=Asia/Kuala_Lumpur:20260303T093000
DTEND;TZID=Asia/Kuala_Lumpur:20260303T233000
DTSTAMP:20260422T113806
CREATED:20260302T021428Z
LAST-MODIFIED:20260302T021428Z
UID:4232-1772530200-1772580600@jeli.nadi.my
SUMMARY:MAHIR FOTO- STUDIO LIGHTING DALAM FOTOGRAFI
DESCRIPTION:
URL:https://jeli.nadi.my/event/mahir-foto-studio-lighting-dalam-fotografi/
END:VEVENT
BEGIN:VEVENT
DTSTART;TZID=Asia/Kuala_Lumpur:20260303T143000
DTEND;TZID=Asia/Kuala_Lumpur:20260303T153000
DTSTAMP:20260422T113806
CREATED:20260302T021623Z
LAST-MODIFIED:20260302T021623Z
UID:4236-1772548200-1772551800@jeli.nadi.my
SUMMARY:OPEN TUITION BI
DESCRIPTION:
URL:https://jeli.nadi.my/event/open-tuition-bi/
END:VEVENT
BEGIN:VEVENT
DTSTART;TZID=Asia/Kuala_Lumpur:20260303T150000
DTEND;TZID=Asia/Kuala_Lumpur:20260303T163000
DTSTAMP:20260422T113806
CREATED:20260302T021055Z
LAST-MODIFIED:20260302T021055Z
UID:4220-1772550000-1772555400@jeli.nadi.my
SUMMARY:MAHIR JAHIT
DESCRIPTION:
URL:https://jeli.nadi.my/event/mahir-jahit-7/
END:VEVENT
BEGIN:VEVENT
DTSTART;TZID=Asia/Kuala_Lumpur:20260303T150000
DTEND;TZID=Asia/Kuala_Lumpur:20260303T163000
DTSTAMP:20260422T113806
CREATED:20260302T021259Z
LAST-MODIFIED:20260302T021259Z
UID:4228-1772550000-1772555400@jeli.nadi.my
SUMMARY:MAHIR BAIKI GAJET
DESCRIPTION:
URL:https://jeli.nadi.my/event/mahir-baiki-gajet/
END:VEVENT
BEGIN:VEVENT
DTSTART;TZID=Asia/Kuala_Lumpur:20260305T113000
DTEND;TZID=Asia/Kuala_Lumpur:20260305T123000
DTSTAMP:20260422T113806
CREATED:20260302T021530Z
LAST-MODIFIED:20260302T021530Z
UID:4234-1772710200-1772713800@jeli.nadi.my
SUMMARY:MAHIR JAHIT- JOM BERGAYA RAYA : FASHION STYLING
DESCRIPTION:
URL:https://jeli.nadi.my/event/mahir-jahit-jom-bergaya-raya-fashion-styling/
END:VEVENT
BEGIN:VEVENT
DTSTART;TZID=Asia/Kuala_Lumpur:20260305T140000
DTEND;TZID=Asia/Kuala_Lumpur:20260305T153000
DTSTAMP:20260422T113806
CREATED:20260302T022730Z
LAST-MODIFIED:20260302T022730Z
UID:4257-1772719200-1772724600@jeli.nadi.my
SUMMARY:NADI X CYBERSECURITY: BAHAYA SERANGAN MALWARE
DESCRIPTION:
URL:https://jeli.nadi.my/event/nadi-x-cybersecurity-bahaya-serangan-malware/
END:VEVENT
BEGIN:VEVENT
DTSTART;TZID=Asia/Kuala_Lumpur:20260305T143000
DTEND;TZID=Asia/Kuala_Lumpur:20260305T150000
DTSTAMP:20260422T113806
CREATED:20260302T022056Z
LAST-MODIFIED:20260302T022056Z
UID:4238-1772721000-1772722800@jeli.nadi.my
SUMMARY:OPEN TUITION BM TING 1-5
DESCRIPTION:
URL:https://jeli.nadi.my/event/open-tuition-bm-ting-1-5/
END:VEVENT
BEGIN:VEVENT
DTSTART;TZID=Asia/Kuala_Lumpur:20260305T150000
DTEND;TZID=Asia/Kuala_Lumpur:20260305T163000
DTSTAMP:20260422T113806
CREATED:20260302T021121Z
LAST-MODIFIED:20260302T021121Z
UID:4222-1772722800-1772728200@jeli.nadi.my
SUMMARY:MAHIR JAHIT
DESCRIPTION:
URL:https://jeli.nadi.my/event/mahir-jahit-8/
END:VEVENT
BEGIN:VEVENT
DTSTART;TZID=Asia/Kuala_Lumpur:20260309T143000
DTEND;TZID=Asia/Kuala_Lumpur:20260309T153000
DTSTAMP:20260422T113806
CREATED:20260302T022131Z
LAST-MODIFIED:20260302T022131Z
UID:4240-1773066600-1773070200@jeli.nadi.my
SUMMARY:OPEN TUITION SEJARAH TING 1-5
DESCRIPTION:
URL:https://jeli.nadi.my/event/open-tuition-sejarah-ting-1-5/
END:VEVENT
BEGIN:VEVENT
DTSTART;TZID=Asia/Kuala_Lumpur:20260310T150000
DTEND;TZID=Asia/Kuala_Lumpur:20260310T163000
DTSTAMP:20260422T113806
CREATED:20260302T021142Z
LAST-MODIFIED:20260302T021142Z
UID:4224-1773154800-1773160200@jeli.nadi.my
SUMMARY:MAHIR JAHIT
DESCRIPTION:
URL:https://jeli.nadi.my/event/mahir-jahit-9/
END:VEVENT
BEGIN:VEVENT
DTSTART;TZID=Asia/Kuala_Lumpur:20260310T150000
DTEND;TZID=Asia/Kuala_Lumpur:20260310T163000
DTSTAMP:20260422T113806
CREATED:20260302T021329Z
LAST-MODIFIED:20260302T021329Z
UID:4230-1773154800-1773160200@jeli.nadi.my
SUMMARY:MAHIR BAIKI GAJET
DESCRIPTION:
URL:https://jeli.nadi.my/event/mahir-baiki-gajet-2/
END:VEVENT
BEGIN:VEVENT
DTSTART;TZID=Asia/Kuala_Lumpur:20260312T093000
DTEND;TZID=Asia/Kuala_Lumpur:20260312T110000
DTSTAMP:20260422T113806
CREATED:20260302T021212Z
LAST-MODIFIED:20260302T021212Z
UID:4226-1773307800-1773313200@jeli.nadi.my
SUMMARY:MAHIR JAHIT
DESCRIPTION:
URL:https://jeli.nadi.my/event/mahir-jahit-10/
END:VEVENT
BEGIN:VEVENT
DTSTART;TZID=Asia/Kuala_Lumpur:20260312T143000
DTEND;TZID=Asia/Kuala_Lumpur:20260312T153000
DTSTAMP:20260422T113806
CREATED:20260302T022159Z
LAST-MODIFIED:20260302T022159Z
UID:4242-1773325800-1773329400@jeli.nadi.my
SUMMARY:OPEN TUITION SAINS TING 1-5
DESCRIPTION:
URL:https://jeli.nadi.my/event/open-tuition-sains-ting-1-5/
END:VEVENT
BEGIN:VEVENT
DTSTART;TZID=Asia/Kuala_Lumpur:20260314T100000
DTEND;TZID=Asia/Kuala_Lumpur:20260314T150000
DTSTAMP:20260422T113806
CREATED:20260302T022426Z
LAST-MODIFIED:20260302T022426Z
UID:4252-1773482400-1773500400@jeli.nadi.my
SUMMARY:BAZAR RAYA @ NADI
DESCRIPTION:
URL:https://jeli.nadi.my/event/bazar-raya-nadi/
END:VEVENT
BEGIN:VEVENT
DTSTART;TZID=Asia/Kuala_Lumpur:20260316T143000
DTEND;TZID=Asia/Kuala_Lumpur:20260316T153000
DTSTAMP:20260422T113806
CREATED:20260302T022231Z
LAST-MODIFIED:20260302T022231Z
UID:4244-1773671400-1773675000@jeli.nadi.my
SUMMARY:OPEN TUITION MATEMATIK TING 1-5
DESCRIPTION:
URL:https://jeli.nadi.my/event/open-tuition-matematik-ting-1-5/
END:VEVENT
BEGIN:VEVENT
DTSTART;TZID=Asia/Kuala_Lumpur:20260317T143000
DTEND;TZID=Asia/Kuala_Lumpur:20260317T153000
DTSTAMP:20260422T113806
CREATED:20260302T022254Z
LAST-MODIFIED:20260302T022254Z
UID:4246-1773757800-1773761400@jeli.nadi.my
SUMMARY:OPEN TUITION B1 TING 1-5
DESCRIPTION:
URL:https://jeli.nadi.my/event/open-tuition-b1-ting-1-5/
END:VEVENT
BEGIN:VEVENT
DTSTART;TZID=Asia/Kuala_Lumpur:20260319T143000
DTEND;TZID=Asia/Kuala_Lumpur:20260319T153000
DTSTAMP:20260422T113806
CREATED:20260302T022320Z
LAST-MODIFIED:20260302T022320Z
UID:4248-1773930600-1773934200@jeli.nadi.my
SUMMARY:OPEN TUITION BM TING 1-5
DESCRIPTION:
URL:https://jeli.nadi.my/event/open-tuition-bm-ting-1-5-2/
END:VEVENT
BEGIN:VEVENT
DTSTART;TZID=Asia/Kuala_Lumpur:20260326T150000
DTEND;TZID=Asia/Kuala_Lumpur:20260326T160000
DTSTAMP:20260422T113806
CREATED:20260302T022353Z
LAST-MODIFIED:20260302T022353Z
UID:4250-1774537200-1774540800@jeli.nadi.my
SUMMARY:OPEN TUITION SAINS TING 1-5
DESCRIPTION:
URL:https://jeli.nadi.my/event/open-tuition-sains-ting-1-5-2/
END:VEVENT
END:VCALENDAR