BEGIN:VCALENDAR
VERSION:2.0
PRODID:-//NADI Jeli - ECPv6.15.20//NONSGML v1.0//EN
CALSCALE:GREGORIAN
METHOD:PUBLISH
X-ORIGINAL-URL:https://jeli.nadi.my
X-WR-CALDESC:Events for NADI Jeli
REFRESH-INTERVAL;VALUE=DURATION:PT1H
X-Robots-Tag:noindex
X-PUBLISHED-TTL:PT1H
BEGIN:VTIMEZONE
TZID:Asia/Kuala_Lumpur
BEGIN:STANDARD
TZOFFSETFROM:+0800
TZOFFSETTO:+0800
TZNAME:+08
DTSTART:20250101T000000
END:STANDARD
END:VTIMEZONE
BEGIN:VEVENT
DTSTART;TZID=Asia/Kuala_Lumpur:20260423T030000
DTEND;TZID=Asia/Kuala_Lumpur:20260423T163000
DTSTAMP:20260422T002136
CREATED:20260421T062129Z
LAST-MODIFIED:20260421T062129Z
UID:4402-1776913200-1776961800@jeli.nadi.my
SUMMARY:CYBERSECURITY
DESCRIPTION:Bagaimana Akaun Social Media Anda Boleh Digodam
URL:https://jeli.nadi.my/event/cybersecurity-2/
END:VEVENT
BEGIN:VEVENT
DTSTART;TZID=Asia/Kuala_Lumpur:20260423T100000
DTEND;TZID=Asia/Kuala_Lumpur:20260423T120000
DTSTAMP:20260422T002136
CREATED:20260421T062208Z
LAST-MODIFIED:20260421T062208Z
UID:4404-1776938400-1776945600@jeli.nadi.my
SUMMARY:LIVE WEBINAR KEUSAHAWANAN
DESCRIPTION:
URL:https://jeli.nadi.my/event/live-webinar-keusahawanan-3/
END:VEVENT
BEGIN:VEVENT
DTSTART;TZID=Asia/Kuala_Lumpur:20260425T100000
DTEND;TZID=Asia/Kuala_Lumpur:20260425T113000
DTSTAMP:20260422T002136
CREATED:20260421T062034Z
LAST-MODIFIED:20260421T062034Z
UID:4400-1777111200-1777116600@jeli.nadi.my
SUMMARY:LIVE WEBINAR KIDVENTURE
DESCRIPTION:
URL:https://jeli.nadi.my/event/live-webinar-kidventure/
END:VEVENT
BEGIN:VEVENT
DTSTART;TZID=Asia/Kuala_Lumpur:20260428T140000
DTEND;TZID=Asia/Kuala_Lumpur:20260428T160000
DTSTAMP:20260422T002136
CREATED:20260421T062250Z
LAST-MODIFIED:20260421T062250Z
UID:4406-1777384800-1777392000@jeli.nadi.my
SUMMARY:PODCAST KEUSAHAWANAN
DESCRIPTION:
URL:https://jeli.nadi.my/event/podcast-keusahawanan/
END:VEVENT
END:VCALENDAR